Workbook

Sheet Pricing Summary
A1: Pricing Summary
B4: State School | C4: Non-State School
A5: Day Programs
A6: Standard Day Program | B6: ='SS - Pricing Breakdown'!B4 -> 15 | C6: ='Non SS - Pricing Breakdown'!B4 -> 18
A7: Longer Day Program | B7: ='SS - Pricing Breakdown'!B5 -> 20 | C7: ='Non SS - Pricing Breakdown'!B5 -> 25
A8: Incursion | B8: ='SS - Pricing Breakdown'!G4 -> 600 | C8: ='Non SS - Pricing Breakdown'!G4 -> 750
A9: Primary Residential
A10: 2 day/1 night | B10: ='SS - Pricing Breakdown'!D12 -> 109 | C10: ='Non SS - Pricing Breakdown'!D13 -> 128.4
A11: 3 day/2 night | B11: ='SS - Pricing Breakdown'!D26 -> 198 | C11: ='Non SS - Pricing Breakdown'!D29 -> 221
A12: Secondary Residential
A13: 2 day/1 night | B13: ='SS - Pricing Breakdown'!D19 -> 115 | C13: ='Non SS - Pricing Breakdown'!D21 -> 129
A14: 3 day/2 night | B14: ='SS - Pricing Breakdown'!D33 -> 210 | C14: ='Non SS - Pricing Breakdown'!D29 -> 221
A15: Duke of Ed.
A16: 2 day/1 night (Bridge) | B16: ='SS - Pricing Breakdown'!I12 -> 195 | C16: ='Non SS - Pricing Breakdown'!I13 -> 205
A17: 2 day/1 night (Bronze) | B17: ='SS - Pricing Breakdown'!I20 -> 150 | C17: ='Non SS - Pricing Breakdown'!I21 -> 187.5
A18: 3 day/2 night (Silver) | B18: ='SS - Pricing Breakdown'!I28 -> 240 | C18: ='Non SS - Pricing Breakdown'!I30 -> 300
A20: Visiting teachers are charged for catering for overnight camps.
A22: Non-State Schools + 25% on Ed. Programs and Accomodation
A24: For more detailed breakdown click here
A25: State School Pricing Breakdown
A26: Non-State School Pricing Breakdown

Sheet SS - Pricing Breakdown
A1: Numinbah Valley Environmental Education Centre: 2024-26 Fee Structure
A3: Primary & Secondary Day Program | B3: State School | F3: Primary & Secondary Incursion Program
A4: Educational Programs - Standard Day | B4: 15 | F4: Educational Programs | G4: 600 | H4: TRS cost
A5: Educational Programs - Longer Day | B5: 20
A7: Primary Camp - 2 Days / 1 Nights | F7: Adventurous Journey: DofE Bridge Award - 2 Days / 1 night
B8: Unit | C8: Unit Cost | D8: Total | G8: Unit | H8: Unit Cost | I8: Total
A9: Educational Programs | B9: 2 | C9: 20 | D9: =SUM(B9*C9) -> 40 | F9: Educational Programs | G9: 2 | H9: 60 | I9: 120
A10: Accommodation | B10: 1 | C10: 15 | D10: =SUM(B10*C10) -> 15 | F10: Accommodation (NVEEC Cabins) | G10: 1 | H10: 15 | I10: =SUM(G10*H10) -> 15
A11: Catering (students bring own morning tea/lunch day 1) | B11: 3 | C11: 18 | D11: =SUM(B11*C11) -> 54 | F11: Catering (students bring own morning tea/lunch day 1) | G11: 3 | H11: 20 | I11: =SUM(G11*H11) -> 60
A12: Note: All prices exclude GST | C12: Total | D12: =SUM(D8:D11) -> 109 | F12: Note: All prices exclude GST | H12: Total | I12: =SUM(I8:I11) -> 195
A14: Secondary Camp - 2 Days / 1 Nights | F14: Adventurous Journey: DofE Bronze Award - 2 Days / 1 night
B15: Unit | C15: Unit Cost | D15: Total | G15: Unit | H15: Unit Cost | I15: Total
A16: Educational Programs | B16: 2 | C16: 20 | D16: =SUM(B16*C16) -> 40 | F16: Educational Programs | G16: 2 | H16: 60 | I16: =SUM(G16*H16) -> 120
A17: Accommodation | B17: 1 | C17: 15 | D17: =SUM(B17*C17) -> 15 | F17: Accommodation (Camping Fees) | G17: 1 | H17: 10 | I17: =SUM(G17*H17) -> 10
A18: Catering (students bring own morning tea/lunch day 1) | B18: 3 | C18: 20 | D18: =SUM(B18*C18) -> 60 | F18: Equipment Hire (Hiking pack, Tent, Camp mat, Stove) | G18: 1 | H18: 20 | I18: =SUM(G18*H18) -> 20
A19: Note: All prices exclude GST | C19: Total | D19: =SUM(D15:D18) -> 115 | F19: Catering (Students plan / provide their own food) | G19: 0 | H19: 0 | I19: =SUM(G19*H19) -> 0
F20: Note: All prices exclude GST | H20: Total | I20: =SUM(I15:I19) -> 150
A21: Primary Camp - 3 Days / 2 Nights
B22: Unit | C22: Unit Cost | D22: Total | F22: Adventurous Journey: DofE Silver Award - 3 Days / 2 night
A23: Educational Programs | B23: 3 | C23: 20 | D23: =SUM(B23*C23) -> 60 | G23: Unit | H23: Unit Cost | I23: Total
A24: Accommodation | B24: 2 | C24: 15 | D24: =SUM(B24*C24) -> 30 | F24: Educational Programs | G24: 3 | H24: 60 | I24: =SUM(G24*H24) -> 180
A25: Catering (students bring own morning tea/lunch day 1) | B25: 6 | C25: 18 | D25: =SUM(B25*C25) -> 108 | F25: Accommodation (Camping Fees) | G25: 2 | H25: 10 | I25: =SUM(G25*H25) -> 20
A26: Note: All prices exclude GST | C26: Total | D26: =SUM(D22:D25) -> 198 | F26: Equipment Hire (Hiking pack, Tent, Camp mat, Stove) | G26: 2 | H26: 20 | I26: =SUM(G26*H26) -> 40
F27: Catering (Students plan / provide their own food) | G27: 0 | H27: 0 | I27: =SUM(G27*H27) -> 0
A28: Secondary Camp - 3 Days / 2 Nights | F28: Note: All prices exclude GST | H28: Total | I28: =SUM(I23:I27) -> 240
B29: Unit | C29: Unit Cost | D29: Total
A30: Educational Programs | B30: 3 | C30: 20 | D30: =SUM(B30*C30) -> 60 | F30: Visiting teachers are charged for catering for overnight camps.
A31: Accommodation | B31: 2 | C31: 15 | D31: =SUM(B31*C31) -> 30
A32: Catering (students bring own morning tea/lunch day 1) | B32: 6 | C32: 20 | D32: =SUM(B32*C32) -> 120 | F32: Weekend Bookings incur 50% increase on prices as listed (exc. DofE)
A33: Note: All prices exclude GST | C33: Total | D33: =SUM(D29:D32) -> 210
A35: NVEEC can facilitate 4-5 day Primary & Secondary Camps - quote upon request
A37: Prices are quoted at minimum of 20 students + 2 adults
A38: Due to set overheads (catering, accomodation, staffing)

Sheet Non SS - Pricing Breakdown
A1: Numinbah Valley Environmental Education Centre: 2024-26 Non State School Fee Structure
A3: Primary & Secondary Day Program | B3: Non State School | F3: Primary & Secondary Incursion Program
A4: Educational Programs - Standard Day | B4: 18 | F4: Educational Programs | G4: 750 | H4: TRS cost
A5: Educational Programs - Longer Day | B5: 25
A7: Primary Camp - 2 Days / 1 Nights | F7: Adventurous Journey: DofE Bridge Award - 2 Days / 1 night
B8: Unit | C8: Unit Cost | D8: Total | G8: Unit | H8: Unit Cost | I8: Total
A9: Educational Programs | B9: 2 | C9: =L11 -> 25 | D9: =SUM(B9*C9) -> 50 | F9: Educational Programs | G9: 2 | H9: 75 | I9: 120
A10: Accommodation | B10: 1 | C10: =L12 -> 19 | D10: =SUM(B10*C10) -> 19 | F10: Accommodation (NVEEC Cabins) | G10: 1 | H10: 19 | I10: =SUM(G10*H10) -> 19
A11: Catering (students bring own morning tea/lunch day 1) | B11: 3 | C11: 18 | D11: =SUM(B11*C11) -> 54 | F11: Catering (students bring own morning tea/lunch day 1) | G11: 3 | H11: 20 | I11: =SUM(G11*H11) -> 60 | K11: Educational Programs | L11: 25
A12: Catering GST (10%) | B12: 3 | C12: =C11*0.1 -> 1.8 | D12: =C12*B12 -> 5.4 | F12: Catering GST | G12: 3 | H12: =H11*0.1 -> 2 | I12: =H12*G12 -> 6 | K12: Accomodation | L12: 19
A13: Note: All prices exclude GST | C13: Total | D13: =SUM(D8:D12) -> 128.4 | F13: Note: All prices exclude GST | H13: Total | I13: =SUM(I8:I12) -> 205
A15: Secondary Camp - 2 Days / 1 Nights | F15: Adventurous Journey: DofE Bronze Award - 2 Days / 1 night
B16: Unit | C16: Unit Cost | D16: Total | G16: Unit | H16: Unit Cost | I16: Total
A17: Educational Programs | B17: 2 | C17: =L11 -> 25 | D17: =SUM(B17*C17) -> 50 | F17: Educational Programs | G17: 2 | H17: 75 | I17: =SUM(G17*H17) -> 150
A18: Accommodation | B18: 1 | C18: =L12 -> 19 | D18: =SUM(B18*C18) -> 19 | F18: Accommodation (Camping Fees) | G18: 1 | H18: 12.5 | I18: =SUM(G18*H18) -> 12.5
A19: Catering (students bring own morning tea/lunch day 1) | B19: 3 | C19: 20 | D19: =SUM(B19*C19) -> 60 | F19: Equipment Hire (Hiking pack, Tent, Camp mat, Stove) | G19: 1 | H19: 25 | I19: =SUM(G19*H19) -> 25
A20: Catering GST (10%) | B20: 3 | C20: =C19*0.1 -> 2 | D20: =C20*B20 -> 6 | F20: Catering (Students plan / provide their own food) | G20: 0 | H20: 0 | I20: =SUM(G20*H20) -> 0
A21: Note: All prices exclude GST | C21: Total | D21: =SUM(D16:D19) -> 129 | F21: Note: All prices exclude GST | H21: Total | I21: =SUM(I16:I20) -> 187.5
A23: Primary Camp - 3 Days / 2 Nights
B24: Unit | C24: Unit Cost | D24: Total | F24: Adventurous Journey: DofE Silver Award - 3 Days / 2 night
A25: Educational Programs | B25: 3 | C25: =L11 -> 25 | D25: =SUM(B25*C25) -> 75 | G25: Unit | H25: Unit Cost | I25: Total
A26: Accommodation | B26: 2 | C26: =L12 -> 19 | D26: =SUM(B26*C26) -> 38 | F26: Educational Programs | G26: 3 | H26: 75 | I26: =SUM(G26*H26) -> 225
A27: Catering (students bring own morning tea/lunch day 1) | B27: 6 | C27: 18 | D27: =SUM(B27*C27) -> 108 | F27: Accommodation (Camping Fees) | G27: 2 | H27: 12.5 | I27: =SUM(G27*H27) -> 25
A28: Catering GST (10%) | B28: 6 | C28: =C27*0.1 -> 1.8 | D28: =C28*B28 -> 10.8 | F28: Equipment Hire (Hiking pack, Tent, Camp mat, Stove) | G28: 2 | H28: 25 | I28: =SUM(G28*H28) -> 50
A29: Note: All prices exclude GST | C29: Total | D29: =SUM(D24:D27) -> 221 | F29: Catering (Students plan / provide their own food) | G29: 0 | H29: 0 | I29: =SUM(G29*H29) -> 0
F30: Note: All prices exclude GST | H30: Total | I30: =SUM(I25:I29) -> 300
A31: Secondary Camp - 3 Days / 2 Nights
B32: Unit | C32: Unit Cost | D32: Total
A33: Educational Programs | B33: 3 | C33: =L11 -> 25 | D33: =SUM(B33*C33) -> 75 | F33: Visiting teachers are charged for catering for overnight camps.
A34: Accommodation | B34: 2 | C34: =L12 -> 19 | D34: =SUM(B34*C34) -> 38
A35: Catering (students bring own morning tea/lunch day 1) | B35: 6 | C35: 20 | D35: =SUM(B35*C35) -> 120
A36: Catering GST (10%) | B36: 6 | C36: =C35*0.1 -> 2 | D36: =C36*B36 -> 12 | F36: GST for catering calculated within costs. Educational Programs and Accomodation are GST free.
A37: Note: All prices exclude GST | C37: Total | D37: =SUM(D32:D35) -> 233
F38: Weekend Bookings incur 50% increase on prices as listed (exc. DofE)
A39: NVEEC can facilitate 4-5 day Primary & Secondary Camps - quote upon request
A40: Prices are quoted at minimum of 20 students + 2 adults Due to set overheads (catering, accomodation, staffing)
